BEGIN:VCALENDAR
VERSION:2.0
PRODID:-//Energy Balancing - Energy Psychology for Daily Living! - ECPv6.15.17.1//NONSGML v1.0//EN
CALSCALE:GREGORIAN
METHOD:PUBLISH
X-WR-CALNAME:Energy Balancing - Energy Psychology for Daily Living!
X-ORIGINAL-URL:https://www.energybalancing.me
X-WR-CALDESC:Events for Energy Balancing - Energy Psychology for Daily Living!
REFRESH-INTERVAL;VALUE=DURATION:PT1H
X-Robots-Tag:noindex
X-PUBLISHED-TTL:PT1H
BEGIN:VTIMEZONE
TZID:America/Winnipeg
BEGIN:DAYLIGHT
TZOFFSETFROM:-0600
TZOFFSETTO:-0500
TZNAME:CDT
DTSTART:20250309T080000
END:DAYLIGHT
BEGIN:STANDARD
TZOFFSETFROM:-0500
TZOFFSETTO:-0600
TZNAME:CST
DTSTART:20251102T070000
END:STANDARD
BEGIN:DAYLIGHT
TZOFFSETFROM:-0600
TZOFFSETTO:-0500
TZNAME:CDT
DTSTART:20260308T080000
END:DAYLIGHT
BEGIN:STANDARD
TZOFFSETFROM:-0500
TZOFFSETTO:-0600
TZNAME:CST
DTSTART:20261101T070000
END:STANDARD
BEGIN:DAYLIGHT
TZOFFSETFROM:-0600
TZOFFSETTO:-0500
TZNAME:CDT
DTSTART:20270314T080000
END:DAYLIGHT
BEGIN:STANDARD
TZOFFSETFROM:-0500
TZOFFSETTO:-0600
TZNAME:CST
DTSTART:20271107T070000
END:STANDARD
END:VTIMEZONE
BEGIN:VEVENT
DTSTART;TZID=America/Winnipeg:20260505T190000
DTEND;TZID=America/Winnipeg:20260505T200000
DTSTAMP:20260423T151455
CREATED:20251129T173449Z
LAST-MODIFIED:20260405T142419Z
UID:2793-1778007600-1778011200@www.energybalancing.me
SUMMARY:NEW in Winnipeg: Dynamic Meditation
DESCRIPTION:Larry and Douglas\, both having been trained as Energy Balancers in Germany for many years\, host a DYNAMIC MEDITATION on every FIRST TUESDAY in Winnipeg. \nThere is an introduction to this physical active meditation. It is a wonderful tool to clear your mind and your emotional energy body\, and you will feel replenished and more present than before. \nNo pre-requisites required and anyone is welcome\, even if you have never done any meditation. Come in gym clothes or comfortable clothes\, as you are going to move your body for some time. Location ist 909 Jarvis Ave\, Winnipeg MB R2X0A3 \nIf you are interested\, contact our certified Energy Balancer Larry for registration and directions at larrywillman1@gmail.com
URL:https://www.energybalancing.me/workshop/energy-balancing-dynamic-meditation/
LOCATION:Dynamic Meditation Winnipeg\, 909 Jarvis Ave\, Winnipeg\, Manitoba\, Canada
CATEGORIES:Energy Balancing Canada
ATTACH;FMTTYPE=image/jpeg:https://www.energybalancing.me/wp-content/uploads/2025/04/IMG-20250411-WA00301.jpg
ORGANIZER;CN="Energy Balancing Canada":MAILTO:info@energybalancing.me
END:VEVENT
END:VCALENDAR